{
 "currentVersion": 11.5,
 "cimVersion": "3.5.0",
 "serviceDescription": "RVCA DRAPE 2024 Infrared Imagery",
 "mapName": "Layers",
 "description": "RVCA DRAPE 2024 Infrared Imagery",
 "copyrightText": "Rideau Valley Conservation Authority (RVCA)",
 "supportsDynamicLayers": false,
 "layers": [
  {
   "id": 0,
   "name": "DRAPE 2024 False IR",
   "parentLayerId": -1,
   "defaultVisibility": true,
   "subLayerIds": null,
   "minScale": 0,
   "maxScale": 0,
   "type": "Raster Layer",
   "supportsDynamicLegends": true
  }
 ],
 "tables": [],
 "spatialReference": {
  "wkid": 102100,
  "latestWkid": 3857,
  "xyTolerance": 0.001,
  "zTolerance": 0.001,
  "mTolerance": 0.001,
  "falseX": -20037700,
  "falseY": -30241100,
  "xyUnits": 10000,
  "falseZ": -100000,
  "zUnits": 10000,
  "falseM": -100000,
  "mUnits": 10000
 },
 "singleFusedMapCache": true,
 "tileInfo": {
  "rows": 256,
  "cols": 256,
  "dpi": 96,
  "format": "MIXED",
  "compressionQuality": 75,
  "origin": {
   "x": -2.0037508342787E7,
   "y": 2.0037508342787E7
  },
  "spatialReference": {
   "wkid": 102100,
   "latestWkid": 3857,
   "xyTolerance": 0.001,
   "zTolerance": 0.001,
   "mTolerance": 0.001,
   "falseX": -20037700,
   "falseY": -30241100,
   "xyUnits": 1.4892314192838538E8,
   "falseZ": -100000,
   "zUnits": 10000,
   "falseM": -100000,
   "mUnits": 10000
  },
  "lods": [
   {
    "level": 0,
    "resolution": 305.74811314055756,
    "scale": 1155581.108577
   },
   {
    "level": 1,
    "resolution": 152.87405657041106,
    "scale": 577790.554289
   },
   {
    "level": 2,
    "resolution": 76.43702828507324,
    "scale": 288895.277144
   },
   {
    "level": 3,
    "resolution": 38.21851414253662,
    "scale": 144447.638572
   },
   {
    "level": 4,
    "resolution": 19.10925707126831,
    "scale": 72223.819286
   },
   {
    "level": 5,
    "resolution": 9.554628535634155,
    "scale": 36111.909643
   },
   {
    "level": 6,
    "resolution": 4.77731426794937,
    "scale": 18055.954822
   },
   {
    "level": 7,
    "resolution": 2.388657133974685,
    "scale": 9027.977411
   },
   {
    "level": 8,
    "resolution": 1.1943285668550503,
    "scale": 4513.988705
   },
   {
    "level": 9,
    "resolution": 0.5971642835598172,
    "scale": 2256.994353
   },
   {
    "level": 10,
    "resolution": 0.29858214164761665,
    "scale": 1128.497176
   },
   {
    "level": 11,
    "resolution": 0.14929107082380833,
    "scale": 564.248588
   },
   {
    "level": 12,
    "resolution": 0.07464553541190416,
    "scale": 282.124294
   }
  ]
 },
 "storageInfo": {
  "storageFormat": "esriMapCacheStorageModeCompactV2",
  "packetSize": 128
 },
 "initialExtent": {
  "xmin": -8570262.345511993,
  "ymin": 5542567.275432324,
  "xmax": -8373777.020159582,
  "ymax": 5711161.675363949,
  "spatialReference": {
   "wkid": 102100,
   "latestWkid": 3857,
   "xyTolerance": 0.001,
   "zTolerance": 0.001,
   "mTolerance": 0.001,
   "falseX": -20037700,
   "falseY": -30241100,
   "xyUnits": 10000,
   "falseZ": -100000,
   "zUnits": 10000,
   "falseM": -100000,
   "mUnits": 10000
  }
 },
 "fullExtent": {
  "xmin": -8565632.692562351,
  "ymin": 5552719.408254866,
  "xmax": -8378406.673109225,
  "ymax": 5706972.688519696,
  "spatialReference": {
   "wkid": 102100,
   "latestWkid": 3857,
   "xyTolerance": 0.001,
   "zTolerance": 0.001,
   "mTolerance": 0.001,
   "falseX": -20037700,
   "falseY": -30241100,
   "xyUnits": 10000,
   "falseZ": -100000,
   "zUnits": 10000,
   "falseM": -100000,
   "mUnits": 10000
  }
 },
 "datesInUnknownTimezone": false,
 "minScale": 1155581.108577,
 "maxScale": 0,
 "units": "esriMeters",
 "supportedImageFormatTypes": "PNG32,PNG24,PNG,JPG,DIB,TIFF,EMF,PS,PDF,GIF,SVG,SVGZ,BMP",
 "documentInfo": {
  "Title": "Untitled.aprx",
  "Author": "",
  "Comments": "",
  "Subject": "",
  "Category": "",
  "Version": "2.9.0",
  "AntialiasingMode": "None",
  "TextAntialiasingMode": "Force",
  "Keywords": "RVCA DRAPE 2024 Infrared Imagery"
 },
 "supportsQueryDomains": true,
 "capabilities": "Map,Query,Data",
 "supportedQueryFormats": "JSON, geoJSON, PBF",
 "exportTilesAllowed": false,
 "referenceScale": 0.0,
 "supportsDatumTransformation": true,
 "archivingInfo": {
  "supportsHistoricMoment": false
 },
 "supportsClipping": true,
 "supportsSpatialFilter": true,
 "supportsTimeRelation": true,
 "supportsQueryDataElements": true,
 "mapUnits": {
  "uwkid": 9001
 },
 "maxSelectionCount": 2000,
 "maxRecordCount": 1000,
 "maxImageHeight": 2048,
 "maxImageWidth": 2048,
 "supportedExtensions": "KmlServer",
 "resampling": true,
 "serviceItemId": "99d94b631c4f481e9eba4125a425ee1a"
}
